BEGIN:VCALENDAR

PRODID:icalendar-ruby
CALSCALE:GREGORIAN
METHOD:REQUEST
BEGIN:VEVENT
DTSTAMP:20211020T025427Z
UID:c9910c2d-8416-4f2c-a27e-09edfe0edbd6
DTSTART:20180108T060000Z
DTEND:20180108T130000Z
DESCRIPTION:\n\nהכנס השנתי המרכזי בישראל לתקשוב ומיחשוב בשלטון המקומי\
 n\nערים חכמות מהוות כיום את הציר המרכזי בסדר היום של ראשי ערים\, מנמרי
 ם ומקבלי החלטות בשלטון המקומי.\n\nבשנה החולפת יותר ויותר ערים החלו להת
 ניע תהליכים אסטרטגיים מערכתיים בנושא ערים חכמות\, שמטרתם העיקרית היא ל
 שפר את השירות לתושב מצד אחד\, ומצד שני למקסם את יכולת ההתייעלות וחיסכו
 ן במשאבים.\n\nהכנס השנתי המרכזי בישראל לתקשוב ומיחשוב בשלטון המקומי\, 
 יעסוק השנה בנושאים הבאים:\n\n\n	\n	ניהול חכם של תהליכי SMART CITY. כיצ
 ד מעצבים מדיניות המשלבת את כל הגורמים ברשות כדי לבצע תהליכי עיר חכמה\n
 	\n	\n	פתרונות טכנולוגיים למימוש מדיניות בנושא עיר חכמה: תשתיות\, מערכ
 ות ניהול ובקרה\, תחבורה חכמה\n	\n	\n	כיצד מעניקים שירותים מתקדמים לתוש
 בים ואיך משתפים את הקהילה\n	\n	\n	מנמ"רים מספרים על פרויקטים בתחום העי
 ר החכמה\n	\n	\n	פאנל מנכ"לים של רשויות מקומיות שמובילים פרויקטי עיר חכ
 מה פאנל מנהלי חינוך ברשויות: כיצד החינוך משתלב בעיר החכמה\n	\n	\n	כיצד
  תאגידים עירוניים משתלבים בעיר חכמה\n	\n\n\nהכרזת הסטארטאפים המצטיינים
  בתחרות SMART CITY שתתקיים לקראת הכנס.\n\n\n\nSMART CITY - BEST STARTU
 P 2017\n\nהחלה ההרשמה לתחרות SMART CITY AWARDS לשנת 2017\n\nהסטארטאפים
  שייבחרו מבין כל המועמדים\, יוזמנו להציג את הפרויקטים בפני ועדת איתור 
 בלתי תלויה המורכבת ממנהלי טכנולוגיה בשלטון המקומי\, יועצים\, ומומחים.\
 n\nאיך משתתפים בתחרות? הגשת מועמדות עד ה-30.11.2017 במייל yehudak@pc.c
 o.ilבקובץ וורד קצר (נא לא לשלוח מצגות!)\n\nהקובץ צריך להכיל את המידע ה
 בא (חובה):\n\n\n	\n	פרטי החברה המלאים\n	\n	\n	לינק לאתר\n	\n	\n	שמות ה
 מנהלים (פרטי קשר מלאים)\n	\n	\n	תיאור קצר של הפרויקט-המוצר (עד 500 מיל
 ה)\n	\n	\n	כמו כן יש להתייחס לנקודות הבאות:\n	\n	\n	האם הפתרון ישים?\n
 	\n	\n	האם ניתן לרשום עליו פטנט?\n	\n	\n	מהו המודל הכלכלי?\n	\n	\n	האם
  נעשה פיילוט ממשי?\n	\n	\n	האם יש משקיע או השקעות שאינן של המייסדים?\n
 	\n	\n	קיום צוות מקצועי שיכול לקחת את החברה לשלב הבא\n	\n\n\n\nאנו ממל
 יצים להתעדכן באתר מידי פעם ולוודא שהמיקום או תאריך האירוע לא שונה: htt
 ps://smart-city-2020.events.co.il/home
LAST-MODIFIED:20211012T172940
LOCATION:LAGO\, רחוב המאה ועשרים 6\, ראשון לציון 
ORGANIZER;CN=People & Computers:mailto:events@thepeople.co.il
SUMMARY:SMART CITY 2020
URL:https://smart-city-2020.events.co.il/home
BEGIN:VALARM
ACTION:DISPLAY
TRIGGER:-P1D
DESCRIPTION:REMINDER
SUMMARY:SMART CITY 2020 מחר בשעה 08:00!
END:VALARM
END:VEVENT
END:VCALENDAR
